BEGIN:VCALENDAR
VERSION:2.0
PRODID:-//SpontaneousInterventions - ECPv4.8.2//NONSGML v1.0//EN
CALSCALE:GREGORIAN
METHOD:PUBLISH
X-WR-CALNAME:SpontaneousInterventions
X-ORIGINAL-URL:http://www.spontaneousinterventions.org
X-WR-CALDESC:Events for SpontaneousInterventions
BEGIN:VEVENT
DTSTART;TZID=America/Argentina/Buenos_Aires:20130807T180000
DTEND;TZID=America/Argentina/Buenos_Aires:20130807T210000
DTSTAMP:20260420T084916
CREATED:20130805T174438Z
LAST-MODIFIED:20130805T174438Z
UID:3059-1375898400-1375909200@www.spontaneousinterventions.org
SUMMARY:Songs and Sounds for Cars Street Sound Workshop [workshop/performance]
DESCRIPTION:Come to Albany Park’s North Branch Projects for a music box and street sound workshop. Have fun building sound devices by deconstructing musical greeting cards. We will use these to accompany theÂ 8pmÂ performance of Songs and Sounds for Cars that will take place at the corner of Central Park and Lawrence Avenue (outside the grassy lot with the fence) four blocks west of the Kimball stop on the Brown Line. \n
URL:http://www.spontaneousinterventions.org/calendar-event/songs-and-sounds-for-cars-street-sound-workshop-workshopperformance
LOCATION:North Branch Projects\, 3550 W. Lawrnce\, Chicago\, IL\, 60625\, United States
END:VEVENT
END:VCALENDAR