BEGIN:VCALENDAR
VERSION:2.0
PRODID:-//SpontaneousInterventions - ECPv4.8.2//NONSGML v1.0//EN
CALSCALE:GREGORIAN
METHOD:PUBLISH
X-WR-CALNAME:SpontaneousInterventions
X-ORIGINAL-URL:http://www.spontaneousinterventions.org
X-WR-CALDESC:Events for SpontaneousInterventions
BEGIN:VEVENT
DTSTART;TZID=America/Argentina/Buenos_Aires:20130806T190000
DTEND;TZID=America/Argentina/Buenos_Aires:20130806T204500
DTSTAMP:20260420T083548
CREATED:20130805T173626Z
LAST-MODIFIED:20130816T164921Z
UID:3057-1375815600-1375821900@www.spontaneousinterventions.org
SUMMARY:Songs and Sounds for Cars [performance]
DESCRIPTION:Even dream of joining a vocal ensemble? Participate in Songs and Sounds with/for Cars\, a vocal ensemble that accompanies the sound of passing traffic. Detroit-based artist Nick Tobier\, whose work deals with the social lives of public places\, and Chicago artist Regin Igloria\, who runs the community arts organization North Branch Projects in Albany Park\, will train participants on the spot! For more information\, write to: nick@everydayplaces.comÂ or callÂ 917 796 5370. \n
URL:http://www.spontaneousinterventions.org/calendar-event/songs-and-sounds-for-cars-performance
LOCATION:Unnamed Venue\, Corner of Central Park and Lawrence Avenue\, Albany Park\, Chicago\, IL\, United States
ORGANIZER;CN="Songs%20and%20Sounds%20for%20Cars":MAILTO:nick@everydayplaces.com
END:VEVENT
END:VCALENDAR