BEGIN:VCALENDAR
VERSION:2.0
PRODID:-//SpontaneousInterventions - ECPv4.8.2//NONSGML v1.0//EN
CALSCALE:GREGORIAN
METHOD:PUBLISH
X-WR-CALNAME:SpontaneousInterventions
X-ORIGINAL-URL:http://www.spontaneousinterventions.org
X-WR-CALDESC:Events for SpontaneousInterventions
BEGIN:VEVENT
DTSTART;TZID=America/Argentina/Buenos_Aires:20140720T130000
DTEND;TZID=America/Argentina/Buenos_Aires:20140720T160000
DTSTAMP:20260420T100631
CREATED:20140719T135415Z
LAST-MODIFIED:20140719T135518Z
UID:3471-1405861200-1405872000@www.spontaneousinterventions.org
SUMMARY:Re-Imagine Governors Island Interactive Workshop\, led by James Rojas
DESCRIPTION:Join us this weekend to re-imagine Governors Island hosted by Spontaneous Interventions. This hands-on workshop will capture the power of the collective community imagination through imaginative\, and exploratory activities.Â  Residents\, tourists\, visitorsâ€”the publicâ€”will reflect on\, explore\, experiment\, and ultimately craft their idealÂ island. \nLos Angeles architect and planner James Rojas has led Place It!Â workshops (featured in Spontaneous Interventions) in over 200 cities across the U.S. \n\n
URL:http://www.spontaneousinterventions.org/calendar-event/re-imagine-governors-island-interactive-workshop-led-by-james-rojas
LOCATION:S.I.\, Building 403\, Colonel’s Row (front lawn)\, Governors Island\, New York Harbor\, United States
CATEGORIES:Workshop
END:VEVENT
END:VCALENDAR